{ "currentVersion": 10.7, "serviceDescription": "

The Bay-wide Land Cover Dataset has 6 classes: <\/SPAN><\/P>
1 - Water: All areas of open water. This includes ponds, rivers, lakes and boats not attached to docks.<\/SPAN><\/P>
2 - Tree Canopy & Shrubland: Deciduous and evergreen woody vegetation of either natural succession or human planting. Stand-alone individuals, discrete clumps, and interlocking individuals are included. <\/SPAN><\/P>
3 - Herbaceous: Plant material less than approximately 2 meters in height. Includes wetlands, lawns, cropland, pasture, nursery plantings with or without tarp cover and natural ground cover. <\/SPAN><\/P>
4 - Barren: Areas void of vegetation consisting of natural earthen material regardless of how it has been cleared. This includes beaches, mud flats, and bare ground in construction sites. <\/SPAN><\/P>
5 - Impervious (other): Human-constructed surfaces through which water cannot penetrate, including structures, parking lots, and sidewalks. <\/SPAN><\/P>
6 - Impervious (roads): Impervious surfaces that are used and maintained for transportation. <\/SPAN><\/P><\/DIV><\/DIV><\/DIV>", "name": "EPA/Baywide_LandCover_UVM_CC_WorldView", "description": "

The Bay-wide Land Cover Dataset has 6 classes: <\/SPAN><\/P>
1 - Water: All areas of open water. This includes ponds, rivers, lakes and boats not attached to docks.<\/SPAN><\/P>
2 - Tree Canopy & Shrubland: Deciduous and evergreen woody vegetation of either natural succession or human planting. Stand-alone individuals, discrete clumps, and interlocking individuals are included. <\/SPAN><\/P>
3 - Herbaceous: Plant material less than approximately 2 meters in height. Includes wetlands, lawns, cropland, pasture, nursery plantings with or without tarp cover and natural ground cover. <\/SPAN><\/P>
4 - Barren: Areas void of vegetation consisting of natural earthen material regardless of how it has been cleared. This includes beaches, mud flats, and bare ground in construction sites. <\/SPAN><\/P>
5 - Impervious (other): Human-constructed surfaces through which water cannot penetrate, including structures, parking lots, and sidewalks. <\/SPAN><\/P>
6 - Impervious (roads): Impervious surfaces that are used and maintained for transportation. <\/SPAN><\/P><\/DIV><\/DIV><\/DIV>", "extent": { "xmin": 1303555.0000000005, "ymin": 1656724.9999999981, "xmax": 1802681.0000000005, "ymax": 2535064.999999998, "spatialReference": { "wkid": 102039, "latestWkid": 102039 } }, "initialExtent": { "xmin": 1303555.0000000005, "ymin": 1656724.9999999981, "xmax": 1802681.0000000005, "ymax": 2535064.999999998, "spatialReference": { "wkid": 102039, "latestWkid": 102039 } }, "fullExtent": { "xmin": 1303555.0000000005, "ymin": 1656724.9999999981, "xmax": 1802681.0000000005, "ymax": 2535064.999999998, "spatialReference": { "wkid": 102039, "latestWkid": 102039 } }, "pixelSizeX": 1, "pixelSizeY": 1, "bandCount": 1, "pixelType": "S8", "minPixelSize": 0, "maxPixelSize": 0, "copyrightText": "Chesapeake Bay Program Partnership; University of Vermont Spatial Analysis Laboratory; Chesapeake Conservancy; WorldView Solutions Inc.; Land Cover", "serviceDataType": "esriImageServiceDataTypeGeneric", "minValues": [ 1 ], "maxValues": [ 6 ], "meanValues": [ 2.3576171915517183 ], "stdvValues": [ 0.8075306913498339 ], "objectIdField": "", "fields": [], "capabilities": "Image,Metadata,Mensuration", "defaultMosaicMethod": "Center", "allowedMosaicMethods": "", "sortField": "", "sortValue": null, "mosaicOperator": "First", "defaultCompressionQuality": 75, "defaultResamplingMethod": "Bilinear", "maxImageHeight": 4100, "maxImageWidth": 15000, "allowRasterFunction": true, "rasterFunctionInfos": [ { "name": "None", "description": "", "help": "" } ], "rasterTypeInfos": [ { "name": "Raster Dataset", "description": "Supports all ArcGIS Raster Datasets", "help": "" } ], "mensurationCapabilities": "Basic", "hasHistograms": true, "hasColormap": false, "hasRasterAttributeTable": true, "minScale": 0, "maxScale": 0, "exportTilesAllowed": false, "hasMultidimensions": false, "supportsStatistics": false, "supportsAdvancedQueries": false, "editFieldsInfo": null, "ownershipBasedAccessControlForRasters": null, "allowComputeTiePoints": false, "useStandardizedQueries": true, "advancedQueryCapabilities": { "useStandardizedQueries": true, "supportsStatistics": false, "supportsOrderBy": false, "supportsDistinct": false, "supportsPagination": false }, "spatialReference": { "wkid": 102039, "latestWkid": 102039 } }