{
 "currentVersion": 10.7,
 "serviceDescription": "VIMS_CBNERR/2019_04_12_goodwin_tld_transparent_mosaic_group1",
 "name": "VIMS_CBNERR/2019_04_12_goodwin_tld_transparent_mosaic_group1",
 "description": "",
 "extent": {
  "xmin": 375234.28849,
  "ymin": 4119681.95134,
  "xmax": 375692.21641,
  "ymax": 4120503.1507200003,
  "spatialReference": {
   "wkid": 32618,
   "latestWkid": 32618
  }
 },
 "initialExtent": {
  "xmin": 375234.28849,
  "ymin": 4119681.95134,
  "xmax": 375692.21641,
  "ymax": 4120503.1507200003,
  "spatialReference": {
   "wkid": 32618,
   "latestWkid": 32618
  }
 },
 "fullExtent": {
  "xmin": 375234.28849,
  "ymin": 4119681.95134,
  "xmax": 375692.21641,
  "ymax": 4120503.1507200003,
  "spatialReference": {
   "wkid": 32618,
   "latestWkid": 32618
  }
 },
 "pixelSizeX": 0.017329999999999523,
 "pixelSizeY": 0.017330000000002573,
 "bandCount": 4,
 "pixelType": "U8",
 "minPixelSize": 0,
 "maxPixelSize": 0,
 "copyrightText": "VIMS CBNERR",
 "serviceDataType": "esriImageServiceDataTypeGeneric",
 "minValues": [],
 "maxValues": [],
 "meanValues": [],
 "stdvValues": [],
 "objectIdField": "",
 "fields": [],
 "capabilities": "Image,Metadata,Mensuration",
 "defaultMosaicMethod": "Center",
 "allowedMosaicMethods": "",
 "sortField": "",
 "sortValue": null,
 "mosaicOperator": "First",
 "defaultCompressionQuality": 75,
 "defaultResamplingMethod": "Bilinear",
 "maxImageHeight": 4100,
 "maxImageWidth": 15000,
 "allowRasterFunction": true,
 "rasterFunctionInfos": [
  {
   "name": "None",
   "description": "",
   "help": ""
  }
 ],
 "rasterTypeInfos": [
  {
   "name": "Raster Dataset",
   "description": "Supports all ArcGIS Raster Datasets",
   "help": ""
  }
 ],
 "mensurationCapabilities": "Basic",
 "hasHistograms": false,
 "hasColormap": false,
 "hasRasterAttributeTable": false,
 "minScale": 0,
 "maxScale": 0,
 "exportTilesAllowed": false,
 "hasMultidimensions": false,
 "supportsStatistics": false,
 "supportsAdvancedQueries": false,
 "editFieldsInfo": null,
 "ownershipBasedAccessControlForRasters": null,
 "allowComputeTiePoints": false,
 "useStandardizedQueries": true,
 "advancedQueryCapabilities": {
  "useStandardizedQueries": true,
  "supportsStatistics": false,
  "supportsOrderBy": false,
  "supportsDistinct": false,
  "supportsPagination": false
 },
 "spatialReference": {
  "wkid": 32618,
  "latestWkid": 32618
 }
}
