{
 "currentVersion": 10.7,
 "serviceDescription": "VIMS_CCRM/SLR_2050_2054_tif",
 "name": "VIMS_CCRM/SLR_2050_2054_tif",
 "description": "",
 "extent": {
  "xmin": 247378.92345737029,
  "ymin": 4041901.042590411,
  "xmax": 479399.66766741045,
  "ymax": 4311287.476643611,
  "spatialReference": {
   "wkid": 26918,
   "latestWkid": 26918,
   "vcsWkid": 5703,
   "latestVcsWkid": 5703
  }
 },
 "initialExtent": {
  "xmin": 247378.92345737029,
  "ymin": 4041901.042590411,
  "xmax": 479399.66766741045,
  "ymax": 4311287.476643611,
  "spatialReference": {
   "wkid": 26918,
   "latestWkid": 26918,
   "vcsWkid": 5703,
   "latestVcsWkid": 5703
  }
 },
 "fullExtent": {
  "xmin": 247378.92345737029,
  "ymin": 4041901.042590411,
  "xmax": 479399.66766741045,
  "ymax": 4311287.476643611,
  "spatialReference": {
   "wkid": 26918,
   "latestWkid": 26918,
   "vcsWkid": 5703,
   "latestVcsWkid": 5703
  }
 },
 "heightModelInfo": {
  "heightModel": "gravity_related_height",
  "vertCRS": "NAVD_1988",
  "heightUnit": "meter"
 },
 "pixelSizeX": 1.0383053159613542,
 "pixelSizeY": 1.0274826705718563,
 "bandCount": 1,
 "pixelType": "F32",
 "minPixelSize": 0,
 "maxPixelSize": 0,
 "copyrightText": "",
 "serviceDataType": "esriImageServiceDataTypeGeneric",
 "minValues": [
  0
 ],
 "maxValues": [
  62.864204406738
 ],
 "meanValues": [
  0.038147594996626
 ],
 "stdvValues": [
  0.36081542431364
 ],
 "objectIdField": "",
 "fields": [],
 "capabilities": "Image,Metadata,Mensuration",
 "defaultMosaicMethod": "Center",
 "allowedMosaicMethods": "",
 "sortField": "",
 "sortValue": null,
 "mosaicOperator": "First",
 "defaultCompressionQuality": 75,
 "defaultResamplingMethod": "Bilinear",
 "maxImageHeight": 4100,
 "maxImageWidth": 15000,
 "allowRasterFunction": true,
 "rasterFunctionInfos": [
  {
   "name": "None",
   "description": "",
   "help": ""
  }
 ],
 "rasterTypeInfos": [
  {
   "name": "Raster Dataset",
   "description": "Supports all ArcGIS Raster Datasets",
   "help": ""
  }
 ],
 "mensurationCapabilities": "Basic",
 "hasHistograms": true,
 "hasColormap": false,
 "hasRasterAttributeTable": false,
 "minScale": 0,
 "maxScale": 0,
 "exportTilesAllowed": false,
 "hasMultidimensions": false,
 "supportsStatistics": false,
 "supportsAdvancedQueries": false,
 "editFieldsInfo": null,
 "ownershipBasedAccessControlForRasters": null,
 "allowComputeTiePoints": false,
 "useStandardizedQueries": true,
 "advancedQueryCapabilities": {
  "useStandardizedQueries": true,
  "supportsStatistics": false,
  "supportsOrderBy": false,
  "supportsDistinct": false,
  "supportsPagination": false
 },
 "spatialReference": {
  "wkid": 26918,
  "latestWkid": 26918,
  "vcsWkid": 5703,
  "latestVcsWkid": 5703
 }
}
