{
 "currentVersion": 10.7,
 "serviceDescription": "VIMS_CCRM/VFRIS_Loudoun",
 "name": "VIMS_CCRM/VFRIS_Loudoun",
 "description": "",
 "extent": {
  "xmin": 1.1657266400209472E7,
  "ymin": 7005724.5641717315,
  "xmax": 1.1815196400209472E7,
  "ymax": 7166514.5641717315,
  "spatialReference": {
   "wkid": 2924,
   "latestWkid": 2924
  }
 },
 "initialExtent": {
  "xmin": 1.1657266400209472E7,
  "ymin": 7005724.5641717315,
  "xmax": 1.1815196400209472E7,
  "ymax": 7166514.5641717315,
  "spatialReference": {
   "wkid": 2924,
   "latestWkid": 2924
  }
 },
 "fullExtent": {
  "xmin": 1.1657266400209472E7,
  "ymin": 7005724.5641717315,
  "xmax": 1.1815196400209472E7,
  "ymax": 7166514.5641717315,
  "spatialReference": {
   "wkid": 2924,
   "latestWkid": 2924
  }
 },
 "pixelSizeX": 10,
 "pixelSizeY": 10,
 "bandCount": 1,
 "pixelType": "F32",
 "minPixelSize": 0,
 "maxPixelSize": 0,
 "copyrightText": "",
 "serviceDataType": "esriImageServiceDataTypeGeneric",
 "minValues": [
  197.00021362305
 ],
 "maxValues": [
  706.91613769531
 ],
 "meanValues": [
  291.64508953552
 ],
 "stdvValues": [
  87.289918778203
 ],
 "objectIdField": "",
 "fields": [],
 "capabilities": "Image,Metadata,Mensuration",
 "defaultMosaicMethod": "Center",
 "allowedMosaicMethods": "",
 "sortField": "",
 "sortValue": null,
 "mosaicOperator": "First",
 "defaultCompressionQuality": 75,
 "defaultResamplingMethod": "Bilinear",
 "maxImageHeight": 4100,
 "maxImageWidth": 15000,
 "allowRasterFunction": true,
 "rasterFunctionInfos": [
  {
   "name": "VFRIS_Loudoun",
   "description": "A raster function template.",
   "help": ""
  },
  {
   "name": "None",
   "description": "",
   "help": ""
  }
 ],
 "rasterTypeInfos": [
  {
   "name": "Raster Dataset",
   "description": "Supports all ArcGIS Raster Datasets",
   "help": ""
  }
 ],
 "mensurationCapabilities": "Basic",
 "hasHistograms": true,
 "hasColormap": false,
 "hasRasterAttributeTable": false,
 "minScale": 0,
 "maxScale": 0,
 "exportTilesAllowed": false,
 "hasMultidimensions": false,
 "supportsStatistics": false,
 "supportsAdvancedQueries": false,
 "editFieldsInfo": null,
 "ownershipBasedAccessControlForRasters": null,
 "allowComputeTiePoints": false,
 "useStandardizedQueries": true,
 "advancedQueryCapabilities": {
  "useStandardizedQueries": true,
  "supportsStatistics": false,
  "supportsOrderBy": false,
  "supportsDistinct": false,
  "supportsPagination": false
 },
 "spatialReference": {
  "wkid": 2924,
  "latestWkid": 2924
 }
}
