{
 "currentVersion": 10.7,
 "serviceDescription": "Dynamic Series of layers from Hurricane Matthew in Central Virginia Beach, VA, Driven by Dr. Loftis at VIMS' (W&M) Street Level Hydrodynamic Model from 00:00-23:00 UTC on 10/9/2016. Model used spatially-varying rainfall inputs supplied by 21 rain gauges (12 of HRSD's and 9 from the City of Virginia Beach's), spatially varying soil infiltration defined by 1m resolution land cover data and 6 USGS groundwater wells similar to Loftis et al.'s publication in the Journal of Coastal Research (2016), and tidal (Dirichlet) open boundary conditions provided by 3 USGS tide gauges near the edges of the domain's extent.",
 "name": "VIMS_PHYS/VBMatthew_inun_thick_20161009T040000",
 "description": "Dynamic Series of layers from Hurricane Matthew in Central Virginia Beach, VA, Driven by Dr. Loftis at VIMS' (W&M) Street Level Hydrodynamic Model from 00:00-23:00 UTC on 10/9/2016. Model used spatially-varying rainfall inputs supplied by 21 rain gauges (12 of HRSD's and 9 from the City of Virginia Beach's), spatially varying soil infiltration defined by 1m resolution land cover data and 6 USGS groundwater wells similar to Loftis et al.'s publication in the Journal of Coastal Research (2016), and tidal (Dirichlet) open boundary conditions provided by 3 USGS tide gauges near the edges of the domain's extent.",
 "extent": {
  "xmin": 396700,
  "ymin": 4068100,
  "xmax": 408450,
  "ymax": 4081100,
  "spatialReference": {
   "wkid": 26918,
   "latestWkid": 26918
  }
 },
 "initialExtent": {
  "xmin": 396700,
  "ymin": 4068100,
  "xmax": 408450,
  "ymax": 4081100,
  "spatialReference": {
   "wkid": 26918,
   "latestWkid": 26918
  }
 },
 "fullExtent": {
  "xmin": 396700,
  "ymin": 4068100,
  "xmax": 408450,
  "ymax": 4081100,
  "spatialReference": {
   "wkid": 26918,
   "latestWkid": 26918
  }
 },
 "pixelSizeX": 1,
 "pixelSizeY": 1,
 "bandCount": 1,
 "pixelType": "F32",
 "minPixelSize": 0,
 "maxPixelSize": 0,
 "copyrightText": "",
 "serviceDataType": "esriImageServiceDataTypeGeneric",
 "minValues": [
  0.32808408141136
 ],
 "maxValues": [
  17.518953323364
 ],
 "meanValues": [
  3.5135780468792
 ],
 "stdvValues": [
  3.0453404809411
 ],
 "objectIdField": "",
 "fields": [],
 "capabilities": "Image,Metadata,Mensuration",
 "defaultMosaicMethod": "Center",
 "allowedMosaicMethods": "",
 "sortField": "",
 "sortValue": null,
 "mosaicOperator": "First",
 "defaultCompressionQuality": 75,
 "defaultResamplingMethod": "Bilinear",
 "maxImageHeight": 4100,
 "maxImageWidth": 15000,
 "allowRasterFunction": true,
 "rasterFunctionInfos": [
  {
   "name": "ClassifiedBlueMatthewFt",
   "description": "A raster function template.",
   "help": ""
  },
  {
   "name": "None",
   "description": "",
   "help": ""
  }
 ],
 "rasterTypeInfos": [
  {
   "name": "Raster Dataset",
   "description": "Supports all ArcGIS Raster Datasets",
   "help": ""
  }
 ],
 "mensurationCapabilities": "Basic",
 "hasHistograms": true,
 "hasColormap": false,
 "hasRasterAttributeTable": false,
 "minScale": 0,
 "maxScale": 0,
 "exportTilesAllowed": false,
 "hasMultidimensions": false,
 "supportsStatistics": false,
 "supportsAdvancedQueries": false,
 "editFieldsInfo": null,
 "ownershipBasedAccessControlForRasters": null,
 "allowComputeTiePoints": false,
 "useStandardizedQueries": true,
 "advancedQueryCapabilities": {
  "useStandardizedQueries": true,
  "supportsStatistics": false,
  "supportsOrderBy": false,
  "supportsDistinct": false,
  "supportsPagination": false
 },
 "spatialReference": {
  "wkid": 26918,
  "latestWkid": 26918
 }
}
