{
 "currentVersion": 11.3,
 "serviceDescription": "Description\nThis Web Map is included in the Mitigating Marshes Against Sea Level Rise: Thin Layer Placement Experiment application.\n\nThe National Estuarine Research Reserve (NERR) System Science Collaborative funded a two-year experiment at 8 different NERR sites to provide broad geographic scale, including Chesapeake Bay NERR in Virginia. The three core research questions they aim to answer include: \u201cIs sediment addition an effective adaptation strategy for marshes in the face of sea level rise? How does marsh resilience respond to different levels of sediment addition? How do low versus high marsh habitats differ in their response to this restoration strategy?\u201d.\n\nThis Story Map is a tool for 6th-12th grade teachers to help teach students about marshes and thin layer placement restoration techniques by exploring maps, videos, and images. Students will analyze how vegetation has changed in the Chesapeake Bay National Estuarine Research Reserve in Virginia (CBNERR-VA) marsh experiment plots in the first year of monitoring. They will evaluate images and graphs different treatments and determine which could be used as a possible restoration technique to combat sea level rise in marshes.",
 "name": "VIMS_CBNERR/2019_04_12_goodwin_tld_clip",
 "description": "Description\nThis Web Map is included in the Mitigating Marshes Against Sea Level Rise: Thin Layer Placement Experiment application.\n\nThe National Estuarine Research Reserve (NERR) System Science Collaborative funded a two-year experiment at 8 different NERR sites to provide broad geographic scale, including Chesapeake Bay NERR in Virginia. The three core research questions they aim to answer include: \u201cIs sediment addition an effective adaptation strategy for marshes in the face of sea level rise? How does marsh resilience respond to different levels of sediment addition? How do low versus high marsh habitats differ in their response to this restoration strategy?\u201d.\n\nThis Story Map is a tool for 6th-12th grade teachers to help teach students about marshes and thin layer placement restoration techniques by exploring maps, videos, and images. Students will analyze how vegetation has changed in the Chesapeake Bay National Estuarine Research Reserve in Virginia (CBNERR-VA) marsh experiment plots in the first year of monitoring. They will evaluate images and graphs different treatments and determine which could be used as a possible restoration technique to combat sea level rise in marshes.",
 "extent": {
  "xmin": 375234.28849,
  "ymin": 4119984.46382,
  "xmax": 375582.44819,
  "ymax": 4120503.1507200003,
  "spatialReference": {
   "wkid": 32618,
   "latestWkid": 32618
  }
 },
 "initialExtent": {
  "xmin": 375234.28849,
  "ymin": 4119984.46382,
  "xmax": 375582.44819,
  "ymax": 4120503.1507200003,
  "spatialReference": {
   "wkid": 32618,
   "latestWkid": 32618
  }
 },
 "fullExtent": {
  "xmin": 375234.28849,
  "ymin": 4119984.46382,
  "xmax": 375582.44819,
  "ymax": 4120503.1507200003,
  "spatialReference": {
   "wkid": 32618,
   "latestWkid": 32618
  }
 },
 "sortableFields": "",
 "bandCount": 4,
 "pixelType": "U8",
 "minValues": [
  0,
  0,
  0,
  0
 ],
 "maxValues": [
  255,
  255,
  255,
  255
 ],
 "meanValues": [
  139.64437279809,
  139.35212680376,
  121.8596647242,
  254.99693162665
 ],
 "stdvValues": [
  32.303908837578,
  32.148723374719,
  32.313136834582,
  0.88454835432607
 ],
 "hasMultidimensions": false,
 "pixelSizeX": 0.017330000000000914,
 "pixelSizeY": 0.017330000000002937,
 "meanPixelSize": 0.017330000000001927,
 "datasetFormat": "TIFF",
 "uncompressedSize": 2405174800,
 "blockWidth": 128,
 "blockHeight": 128,
 "compressionType": "LZW",
 "bandNames": [
  "Band_1",
  "Band_2",
  "Band_3",
  "Band_4"
 ],
 "allowCopy": true,
 "allowAnalysis": true,
 "itemAccess": false,
 "inspectionCapabilities": "",
 "noDataValue": -10000,
 "noDataValues": [
  -10000,
  -10000,
  -10000,
  -10000
 ],
 "minPixelSize": 0,
 "maxPixelSize": 0,
 "copyrightText": "National Oceanic and Atmospheric Administration (NOAA), National Estuarine Research Reserve Association (NERRA), Chesapeake Bay National Estuarine Research Reserve in Virginia (CBNERR-VA); Virginia Institute of Marine Science (VIMS)",
 "serviceDataType": "esriImageServiceDataTypeGeneric",
 "serviceSourceType": "esriImageServiceSourceTypeDataset",
 "objectIdField": "",
 "fields": [],
 "capabilities": "Image,Metadata,Mensuration",
 "defaultMosaicMethod": "Center",
 "allowedMosaicMethods": "",
 "sortField": "",
 "sortValue": null,
 "sortAscending": true,
 "mosaicOperator": "First",
 "defaultCompressionQuality": 75,
 "defaultResamplingMethod": "Bilinear",
 "maxImageHeight": 4100,
 "maxImageWidth": 15000,
 "allowRasterFunction": true,
 "rasterFunctionInfos": [
  {
   "name": "None",
   "description": "",
   "help": ""
  }
 ],
 "rasterTypeInfos": [
  {
   "name": "Raster Dataset",
   "description": "Supports all ArcGIS Raster Datasets",
   "help": ""
  }
 ],
 "mensurationCapabilities": "Basic",
 "hasHistograms": true,
 "hasColormap": false,
 "hasRasterAttributeTable": false,
 "minScale": 0,
 "maxScale": 0,
 "exportTilesAllowed": false,
 "supportsStatistics": false,
 "supportsAdvancedQueries": false,
 "editFieldsInfo": null,
 "ownershipBasedAccessControlForRasters": null,
 "allowComputeTiePoints": false,
 "useStandardizedQueries": true,
 "advancedQueryCapabilities": {
  "useStandardizedQueries": true,
  "supportsStatistics": false,
  "supportsOrderBy": false,
  "supportsDistinct": false,
  "supportsPagination": false
 },
 "spatialReference": {
  "wkid": 32618,
  "latestWkid": 32618
 }
}
