{
 "currentVersion": 11.3,
 "serviceDescription": "VIMS_CCRM/SatMorning_Nov4",
 "name": "VIMS_CCRM/SatMorning_Nov4",
 "description": "",
 "extent": {
  "xmin": 1.1705778485526035E7,
  "ymin": 3355000.784939021,
  "xmax": 1.2425000985526035E7,
  "ymax": 4275010.784939021,
  "spatialReference": {
   "wkid": 2925,
   "latestWkid": 2925
  }
 },
 "initialExtent": {
  "xmin": 1.1705778485526035E7,
  "ymin": 3355000.784939021,
  "xmax": 1.2425000985526035E7,
  "ymax": 4275010.784939021,
  "spatialReference": {
   "wkid": 2925,
   "latestWkid": 2925
  }
 },
 "fullExtent": {
  "xmin": 1.1705778485526035E7,
  "ymin": 3355000.784939021,
  "xmax": 1.2425000985526035E7,
  "ymax": 4275010.784939021,
  "spatialReference": {
   "wkid": 2925,
   "latestWkid": 2925
  }
 },
 "sortableFields": "",
 "bandCount": 1,
 "pixelType": "F32",
 "minValues": [
  3.337860107421875E-6
 ],
 "maxValues": [
  11.014766693115234
 ],
 "meanValues": [
  3.0080941071838834
 ],
 "stdvValues": [
  1.7574090966754046
 ],
 "hasMultidimensions": false,
 "pixelSizeX": 2.5,
 "pixelSizeY": 2.5,
 "meanPixelSize": 0.7620015240030481,
 "datasetFormat": "FGDBR",
 "uncompressedSize": 423482811024,
 "blockWidth": 128,
 "blockHeight": 128,
 "compressionType": "LZ77",
 "bandNames": [
  "Band_1"
 ],
 "allowCopy": true,
 "allowAnalysis": true,
 "itemAccess": false,
 "inspectionCapabilities": "",
 "minPixelSize": 0,
 "maxPixelSize": 0,
 "copyrightText": "",
 "serviceDataType": "esriImageServiceDataTypeGeneric",
 "serviceSourceType": "esriImageServiceSourceTypeDataset",
 "objectIdField": "",
 "fields": [],
 "capabilities": "Image,Metadata,Mensuration",
 "defaultMosaicMethod": "Center",
 "allowedMosaicMethods": "",
 "sortField": "",
 "sortValue": null,
 "sortAscending": true,
 "mosaicOperator": "First",
 "defaultCompressionQuality": 75,
 "defaultResamplingMethod": "Bilinear",
 "maxImageHeight": 4100,
 "maxImageWidth": 15000,
 "allowRasterFunction": true,
 "rasterFunctionInfos": [
  {
   "name": "SLR_Depth_withLabelsForDerek",
   "description": "A raster function template.",
   "help": ""
  },
  {
   "name": "None",
   "description": "",
   "help": ""
  }
 ],
 "rasterTypeInfos": [
  {
   "name": "Raster Dataset",
   "description": "Supports all ArcGIS Raster Datasets",
   "help": ""
  }
 ],
 "mensurationCapabilities": "Basic",
 "hasHistograms": true,
 "hasColormap": false,
 "hasRasterAttributeTable": false,
 "minScale": 0,
 "maxScale": 0,
 "exportTilesAllowed": false,
 "supportsStatistics": false,
 "supportsAdvancedQueries": false,
 "editFieldsInfo": null,
 "ownershipBasedAccessControlForRasters": null,
 "allowComputeTiePoints": false,
 "useStandardizedQueries": true,
 "advancedQueryCapabilities": {
  "useStandardizedQueries": true,
  "supportsStatistics": false,
  "supportsOrderBy": false,
  "supportsDistinct": false,
  "supportsPagination": false
 },
 "spatialReference": {
  "wkid": 2925,
  "latestWkid": 2925
 }
}
