{
 "currentVersion": 11.3,
 "serviceDescription": "VIMS_CCRM/TidewatchViewer_LIDAR",
 "name": "VIMS_CCRM/TidewatchViewer_LIDAR",
 "description": "",
 "extent": {
  "xmin": -8651471.342452832,
  "ymin": 4373035.967417621,
  "xmax": -8374022.777555703,
  "ymax": 4716142.393630472,
  "spatialReference": {
   "wkid": 102100,
   "latestWkid": 3857
  }
 },
 "initialExtent": {
  "xmin": -8651471.342452832,
  "ymin": 4373035.967417621,
  "xmax": -8374022.777555703,
  "ymax": 4716142.393630472,
  "spatialReference": {
   "wkid": 102100,
   "latestWkid": 3857
  }
 },
 "fullExtent": {
  "xmin": -8651471.342452832,
  "ymin": 4373035.967417621,
  "xmax": -8374022.777555703,
  "ymax": 4716142.393630472,
  "spatialReference": {
   "wkid": 102100,
   "latestWkid": 3857
  }
 },
 "sortableFields": "",
 "bandCount": 1,
 "pixelType": "F32",
 "minValues": [
  -103.85065460205
 ],
 "maxValues": [
  162.46696472168
 ],
 "meanValues": [
  18.212968958235
 ],
 "stdvValues": [
  22.80354078651
 ],
 "hasMultidimensions": false,
 "pixelSizeX": 0.7620015240030441,
 "pixelSizeY": 0.7620015240030448,
 "meanPixelSize": 0.7620015240030444,
 "datasetFormat": "TIFF",
 "uncompressedSize": 655782233400,
 "blockWidth": 128,
 "blockHeight": 128,
 "compressionType": "LZW",
 "bandNames": [
  "Band_1"
 ],
 "allowCopy": true,
 "allowAnalysis": true,
 "itemAccess": false,
 "inspectionCapabilities": "",
 "noDataValue": -1.7976931348623157E308,
 "noDataValues": [
  -1.7976931348623157E308
 ],
 "minPixelSize": 0,
 "maxPixelSize": 0,
 "copyrightText": "",
 "serviceDataType": "esriImageServiceDataTypeGeneric",
 "serviceSourceType": "esriImageServiceSourceTypeDataset",
 "objectIdField": "",
 "fields": [],
 "capabilities": "Image,Metadata,Mensuration",
 "defaultMosaicMethod": "Center",
 "allowedMosaicMethods": "",
 "sortField": "",
 "sortValue": null,
 "sortAscending": true,
 "mosaicOperator": "First",
 "defaultCompressionQuality": 75,
 "defaultResamplingMethod": "Bilinear",
 "maxImageHeight": 4100,
 "maxImageWidth": 15000,
 "allowRasterFunction": true,
 "rasterFunctionInfos": [
  {
   "name": "TidewatchViewer_LIDAR",
   "description": "A raster function template.",
   "help": ""
  },
  {
   "name": "None",
   "description": "",
   "help": ""
  }
 ],
 "rasterTypeInfos": [
  {
   "name": "Raster Dataset",
   "description": "Supports all ArcGIS Raster Datasets",
   "help": ""
  }
 ],
 "mensurationCapabilities": "Basic",
 "hasHistograms": true,
 "hasColormap": false,
 "hasRasterAttributeTable": false,
 "minScale": 0,
 "maxScale": 0,
 "exportTilesAllowed": false,
 "supportsStatistics": false,
 "supportsAdvancedQueries": false,
 "editFieldsInfo": null,
 "ownershipBasedAccessControlForRasters": null,
 "allowComputeTiePoints": false,
 "useStandardizedQueries": true,
 "advancedQueryCapabilities": {
  "useStandardizedQueries": true,
  "supportsStatistics": false,
  "supportsOrderBy": false,
  "supportsDistinct": false,
  "supportsPagination": false
 },
 "spatialReference": {
  "wkid": 102100,
  "latestWkid": 3857
 }
}
