{
 "currentVersion": 11.3,
 "serviceDescription": "VIMS_SAV/SAV_Imagery_2023_tiletest",
 "name": "VIMS_SAV/SAV_Imagery_2023_tiletest",
 "description": "",
 "extent": {
  "xmin": 290580.4388267222,
  "ymin": 4079702.851071494,
  "xmax": 492793.0965074434,
  "ymax": 4388996.770191588,
  "spatialReference": {
   "wkid": 26918,
   "latestWkid": 26918
  }
 },
 "initialExtent": {
  "xmin": 290580.4388267222,
  "ymin": 4079702.851071494,
  "xmax": 492793.0965074434,
  "ymax": 4388996.770191588,
  "spatialReference": {
   "wkid": 26918,
   "latestWkid": 26918
  }
 },
 "fullExtent": {
  "xmin": 290580.4388267222,
  "ymin": 4079702.851071494,
  "xmax": 492793.0965074434,
  "ymax": 4388996.770191588,
  "spatialReference": {
   "wkid": 26918,
   "latestWkid": 26918
  }
 },
 "sortableFields": "MinPS,MaxPS,LowPS,HighPS,CenterX,CenterY,ZOrder,Shape_Length,Shape_Area,SOrder,SLevelPS",
 "bandCount": 4,
 "pixelType": "U8",
 "minValues": [
  0,
  0,
  0,
  0
 ],
 "maxValues": [
  255,
  255,
  255,
  255
 ],
 "meanValues": [
  114,
  114,
  114,
  114
 ],
 "stdvValues": [
  44,
  44,
  44,
  44
 ],
 "hasMultidimensions": false,
 "pixelSizeX": 0.2064129548999809,
 "pixelSizeY": 0.20641295489998102,
 "meanPixelSize": 0.20641295489998096,
 "datasetFormat": "AMD",
 "uncompressedSize": 5871726361492,
 "blockWidth": 2048,
 "blockHeight": 256,
 "compressionType": "None",
 "bandNames": [
  "Red",
  "Green",
  "Blue",
  "Infrared"
 ],
 "allowCopy": true,
 "allowAnalysis": true,
 "itemAccess": false,
 "inspectionCapabilities": "",
 "minPixelSize": 0.5959250892958845,
 "maxPixelSize": 2440.909165755943,
 "copyrightText": "",
 "serviceDataType": "esriImageServiceDataTypeGeneric",
 "serviceSourceType": "esriImageServiceSourceTypeMosaicDataset",
 "objectIdField": "OBJECTID",
 "fields": [
  {
   "name": "OBJECTID",
   "type": "esriFieldTypeOID",
   "alias": "OBJECTID",
   "domain": null
  },
  {
   "name": "Shape",
   "type": "esriFieldTypeGeometry",
   "alias": "Shape",
   "domain": null
  },
  {
   "name": "Name",
   "type": "esriFieldTypeString",
   "alias": "Name",
   "domain": null,
   "length": 200
  },
  {
   "name": "MinPS",
   "type": "esriFieldTypeDouble",
   "alias": "MinPS",
   "domain": null
  },
  {
   "name": "MaxPS",
   "type": "esriFieldTypeDouble",
   "alias": "MaxPS",
   "domain": null
  },
  {
   "name": "LowPS",
   "type": "esriFieldTypeDouble",
   "alias": "LowPS",
   "domain": null
  },
  {
   "name": "HighPS",
   "type": "esriFieldTypeDouble",
   "alias": "HighPS",
   "domain": null
  },
  {
   "name": "Category",
   "type": "esriFieldTypeInteger",
   "alias": "Category",
   "domain": {
    "type": "codedValue",
    "name": "MosaicCatalogItemCategoryDomain",
    "description": "Catalog item categories.",
    "codedValues": [
     {
      "name": "Unknown",
      "code": 0
     },
     {
      "name": "Primary",
      "code": 1
     },
     {
      "name": "Overview",
      "code": 2
     },
     {
      "name": "Unprocessed Overview",
      "code": 3
     },
     {
      "name": "Partial Overview",
      "code": 4
     },
     {
      "name": "Inactive",
      "code": 5
     },
     {
      "name": "Uploaded",
      "code": 253
     },
     {
      "name": "Incomplete",
      "code": 254
     },
     {
      "name": "Custom",
      "code": 255
     }
    ],
    "mergePolicy": "esriMPTDefaultValue",
    "splitPolicy": "esriSPTDefaultValue"
   }
  },
  {
   "name": "Tag",
   "type": "esriFieldTypeString",
   "alias": "Tag",
   "domain": null,
   "length": 100
  },
  {
   "name": "GroupName",
   "type": "esriFieldTypeString",
   "alias": "GroupName",
   "domain": null,
   "length": 100
  },
  {
   "name": "ProductName",
   "type": "esriFieldTypeString",
   "alias": "ProductName",
   "domain": null,
   "length": 100
  },
  {
   "name": "CenterX",
   "type": "esriFieldTypeDouble",
   "alias": "CenterX",
   "domain": null
  },
  {
   "name": "CenterY",
   "type": "esriFieldTypeDouble",
   "alias": "CenterY",
   "domain": null
  },
  {
   "name": "ZOrder",
   "type": "esriFieldTypeInteger",
   "alias": "ZOrder",
   "domain": null
  },
  {
   "name": "Shape_Length",
   "type": "esriFieldTypeDouble",
   "alias": "Shape_Length",
   "domain": null
  },
  {
   "name": "Shape_Area",
   "type": "esriFieldTypeDouble",
   "alias": "Shape_Area",
   "domain": null
  },
  {
   "name": "SOrder",
   "type": "esriFieldTypeInteger",
   "alias": "SOrder",
   "domain": null
  },
  {
   "name": "SLevelPS",
   "type": "esriFieldTypeDouble",
   "alias": "SLevelPS",
   "domain": null
  }
 ],
 "capabilities": "Image,Metadata,Catalog",
 "defaultMosaicMethod": "Seamline",
 "allowedMosaicMethods": "Seamline,ByAttribute,NorthWest,Center,LockRaster,Nadir,Viewpoint,None",
 "sortField": "",
 "sortValue": null,
 "sortAscending": true,
 "mosaicOperator": "First",
 "maxDownloadSizeLimit": 2048,
 "defaultCompressionQuality": 75,
 "defaultResamplingMethod": "Bilinear",
 "maxImageHeight": 4100,
 "maxImageWidth": 15000,
 "maxRecordCount": 1000,
 "maxDownloadImageCount": 20,
 "maxMosaicImageCount": 20,
 "singleFusedMapCache": true,
 "tileInfo": {
  "rows": 256,
  "cols": 256,
  "dpi": 96,
  "format": "PNG",
  "compressionQuality": 0,
  "origin": {
   "x": -9497963.942936342,
   "y": 9997963.942936342
  },
  "spatialReference": {
   "wkid": 26918,
   "latestWkid": 26918
  },
  "lods": [
   {
    "level": 0,
    "resolution": 78109.09330419017,
    "scale": 2.952154707559943E8
   },
   {
    "level": 1,
    "resolution": 39054.54665209509,
    "scale": 1.4760773537799716E8
   },
   {
    "level": 2,
    "resolution": 19527.273326047543,
    "scale": 7.380386768899858E7
   },
   {
    "level": 3,
    "resolution": 9763.636663023772,
    "scale": 3.690193384449929E7
   },
   {
    "level": 4,
    "resolution": 4881.818331511886,
    "scale": 1.8450966922249645E7
   },
   {
    "level": 5,
    "resolution": 2440.909165755943,
    "scale": 9225483.461124822
   },
   {
    "level": 6,
    "resolution": 1220.4545828779715,
    "scale": 4612741.730562411
   },
   {
    "level": 7,
    "resolution": 610.2272914389857,
    "scale": 2306370.8652812056
   },
   {
    "level": 8,
    "resolution": 305.11364571949287,
    "scale": 1153185.4326406028
   },
   {
    "level": 9,
    "resolution": 152.55682285974643,
    "scale": 576592.7163203014
   },
   {
    "level": 10,
    "resolution": 76.27841142987322,
    "scale": 288296.3581601507
   },
   {
    "level": 11,
    "resolution": 38.13920571493661,
    "scale": 144148.17908007535
   },
   {
    "level": 12,
    "resolution": 19.069602857468304,
    "scale": 72074.08954003768
   },
   {
    "level": 13,
    "resolution": 9.534801428734152,
    "scale": 36037.04477001884
   },
   {
    "level": 14,
    "resolution": 4.767400714367076,
    "scale": 18018.52238500942
   },
   {
    "level": 15,
    "resolution": 2.383700357183538,
    "scale": 9009.26119250471
   },
   {
    "level": 16,
    "resolution": 1.191850178591769,
    "scale": 4504.630596252355
   },
   {
    "level": 17,
    "resolution": 0.5959250892958845,
    "scale": 2252.3152981261774
   },
   {
    "level": 18,
    "resolution": 0.29796254464794225,
    "scale": 1126.1576490630887
   }
  ]
 },
 "storageInfo": {
  "storageFormat": "esriMapCacheStorageModeCompactV2",
  "packetSize": 128
 },
 "cacheType": "Map",
 "allowRasterFunction": true,
 "rasterFunctionInfos": [
  {
   "name": "None",
   "description": "",
   "help": ""
  }
 ],
 "rasterTypeInfos": [
  {
   "name": "Raster Dataset",
   "description": "Supports all ArcGIS Raster Datasets",
   "help": ""
  }
 ],
 "mensurationCapabilities": "None",
 "hasHistograms": true,
 "hasColormap": false,
 "hasRasterAttributeTable": false,
 "minScale": 9225483.461124822,
 "maxScale": 2252.3152981261774,
 "minLOD": 5,
 "maxLOD": 17,
 "exportTilesAllowed": false,
 "supportsStatistics": true,
 "supportsAdvancedQueries": true,
 "editFieldsInfo": null,
 "ownershipBasedAccessControlForRasters": null,
 "allowComputeTiePoints": false,
 "useStandardizedQueries": true,
 "advancedQueryCapabilities": {
  "useStandardizedQueries": true,
  "supportsStatistics": true,
  "supportsOrderBy": true,
  "supportsDistinct": true,
  "supportsPagination": true
 },
 "spatialReference": {
  "wkid": 26918,
  "latestWkid": 26918
 }
}
