View In:
ArcGIS JavaScript
ArcGIS Online Map Viewer
ArcGIS Earth
ArcMap
View Footprint In:
ArcGIS Online Map Viewer
Service Description: Dynamic Series of layers from Hurricane Matthew in Central Virginia Beach, VA, Driven by Dr. Loftis at VIMS' (W&M) Street Level Hydrodynamic Model from 00:00-23:00 UTC on 10/9/2016. Model used spatially-varying rainfall inputs supplied by 21 rain gauges (12 of HRSD's and 9 from the City of Virginia Beach's), spatially varying soil infiltration defined by 1m resolution land cover data and 6 USGS groundwater wells similar to Loftis et al.'s publication in the Journal of Coastal Research (2016), and tidal (Dirichlet) open boundary conditions provided by 3 USGS tide gauges near the edges of the domain's extent.
Name: VIMS_PHYS/VBMatthew_inun_thick_20161009T190000
Description: Dynamic Series of layers from Hurricane Matthew in Central Virginia Beach, VA, Driven by Dr. Loftis at VIMS' (W&M) Street Level Hydrodynamic Model from 00:00-23:00 UTC on 10/9/2016. Model used spatially-varying rainfall inputs supplied by 21 rain gauges (12 of HRSD's and 9 from the City of Virginia Beach's), spatially varying soil infiltration defined by 1m resolution land cover data and 6 USGS groundwater wells similar to Loftis et al.'s publication in the Journal of Coastal Research (2016), and tidal (Dirichlet) open boundary conditions provided by 3 USGS tide gauges near the edges of the domain's extent.
Single Fused Map Cache: false
Extent:
XMin: 396700
YMin: 4068100
XMax: 408450
YMax: 4081100
Spatial Reference: 26918
(26918)
Initial Extent:
XMin: 396700
YMin: 4068100
XMax: 408450
YMax: 4081100
Spatial Reference: 26918
(26918)
Full Extent:
XMin: 396700
YMin: 4068100
XMax: 408450
YMax: 4081100
Spatial Reference: 26918
(26918)
Pixel Size X: 1.0
Pixel Size Y: 1.0
Band Count: 1
Pixel Type: F32
RasterFunction Infos: {"rasterFunctionInfos": [
{
"name": "ClassifiedBlueMatthewFt",
"description": "A raster function template.",
"help": ""
},
{
"name": "None",
"description": "",
"help": ""
}
]}
Mensuration Capabilities: Basic
Has Histograms: true
Has Colormap: false
Has Multi Dimensions : false
Rendering Rule:
Min Scale: 0
Max Scale: 0
Copyright Text:
Service Data Type: esriImageServiceDataTypeGeneric
Min Values: 0.32808408141136
Max Values: 17.517887115479
Mean Values: 3.8539484962106
Standard Deviation Values: 3.0723167586599
Object ID Field:
Fields:
None
Default Mosaic Method: Center
Allowed Mosaic Methods:
SortField:
SortValue: null
Mosaic Operator: First
Default Compression Quality: 75
Default Resampling Method: Bilinear
Max Record Count: null
Max Image Height: 4100
Max Image Width: 15000
Max Download Image Count: null
Max Mosaic Image Count: null
Allow Raster Function: true
Allow Compute TiePoints: false
Supports Statistics: false
Supports Advanced Queries: false
Use StandardizedQueries: true
Raster Type Infos:
Name: Raster Dataset
Description: Supports all ArcGIS Raster Datasets
Help:
Has Raster Attribute Table: false
Edit Fields Info: null
Ownership Based AccessControl For Rasters: null
Child Resources:
Info
Histograms
Key Properties
Legend
MultiDimensionalInfo
rasterFunctionInfos
Supported Operations:
Export Image
Identify
Measure
Compute Histograms
Compute Statistics Histograms
Get Samples
Compute Class Statistics
Query Boundary
Compute Pixel Location