View In:
ArcGIS JavaScript
ArcGIS Online Map Viewer
ArcGIS Earth
Service Description: Aerial imagery acquired in 2016 to monitor SAV in Chesapeake Bay and Tributaries. See http://www.vims.edu/bio/sav for more information.
Name: VIMS_SAV/sav_2016_images
Description: Aerial imagery acquired in 2016 to monitor SAV in Chesapeake Bay and Tributaries. See http://www.vims.edu/bio/sav for more information.
Single Fused Map Cache: false
Extent:
XMin: 290832.6065670509
YMin: 4084468.009019888
XMax: 443856.427362876
YMax: 4387557.865901951
Spatial Reference: 26918
(26918)
Initial Extent:
XMin: 290832.6065670509
YMin: 4084468.009019888
XMax: 443856.427362876
YMax: 4387557.865901951
Spatial Reference: 26918
(26918)
Full Extent:
XMin: 290832.6065670509
YMin: 4084468.009019888
XMax: 443856.427362876
YMax: 4387557.865901951
Spatial Reference: 26918
(26918)
Pixel Size X: 0.23702097199998312
Pixel Size Y: 0.23702097199998337
Band Count: 4
Pixel Type: U8
RasterFunction Infos: {"rasterFunctionInfos": [{
"name": "None",
"description": "",
"help": ""
}]}
Mensuration Capabilities: None
Inspection Capabilities:
Has Histograms: true
Has Colormap: false
Has Multi Dimensions : false
Rendering Rule:
Min Scale: 0
Max Scale: 0
Copyright Text: VIMS SAV Ecology, Monitoring, & Restoration Program
Service Data Type: esriImageServiceDataTypeGeneric
Min Values: 2, 4, 4, 1
Max Values: 255, 255, 255, 255
Mean Values: 77.61646441626664, 109.09832680807867, 108.69331956861828, 104.089723861651
Standard Deviation Values: 41.439653452416735, 35.190291720604705, 32.150342239741875, 67.1476977437952
Object ID Field: OBJECTID
Fields:
-
OBJECTID
(
type: esriFieldTypeOID, alias: OBJECTID
)
-
Shape
(
type: esriFieldTypeGeometry, alias: Shape
)
-
Name
(
type: esriFieldTypeString, alias: Name, length: 200
)
-
MinPS
(
type: esriFieldTypeDouble, alias: MinPS
)
-
MaxPS
(
type: esriFieldTypeDouble, alias: MaxPS
)
-
LowPS
(
type: esriFieldTypeDouble, alias: LowPS
)
-
HighPS
(
type: esriFieldTypeDouble, alias: HighPS
)
-
Category
(
type: esriFieldTypeInteger, alias: Category
, Coded Values:
[0: Unknown]
, [1: Primary]
, [2: Overview]
, ...6 more...
)
-
Tag
(
type: esriFieldTypeString, alias: Tag, length: 100
)
-
GroupName
(
type: esriFieldTypeString, alias: GroupName, length: 100
)
-
ProductName
(
type: esriFieldTypeString, alias: ProductName, length: 100
)
-
CenterX
(
type: esriFieldTypeDouble, alias: CenterX
)
-
CenterY
(
type: esriFieldTypeDouble, alias: CenterY
)
-
ZOrder
(
type: esriFieldTypeInteger, alias: ZOrder
)
-
Shape_Length
(
type: esriFieldTypeDouble, alias: Shape_Length
)
-
Shape_Area
(
type: esriFieldTypeDouble, alias: Shape_Area
)
-
SOrder
(
type: esriFieldTypeInteger, alias: SOrder
)
-
SLevelPS
(
type: esriFieldTypeDouble, alias: SLevelPS
)
Default Mosaic Method: Seamline
Allowed Mosaic Methods: Seamline,ByAttribute,NorthWest,Center,LockRaster,Nadir,Viewpoint,None
SortField:
SortValue: null
Mosaic Operator: First
Default Compression Quality: 75
Default Resampling Method: Bilinear
Max Record Count: 1000
Max Image Height: 4100
Max Image Width: 15000
Max Download Image Count: 20
Max Mosaic Image Count: 20
Allow Raster Function: true
Allow Copy: true
Allow Analysis: true
Allow Compute TiePoints: false
Supports Statistics: true
Supports Advanced Queries: true
Use StandardizedQueries: true
Raster Type Infos:
Name: Raster Dataset
Description: Supports all ArcGIS Raster Datasets
Help:
Has Raster Attribute Table: false
Edit Fields Info: null
Ownership Based AccessControl For Rasters: null
Child Resources:
Info
Histograms
Statistics
Key Properties
Legend
Raster Function Infos
Supported Operations:
Export Image
Query
Identify
Compute Histograms
Compute Statistics Histograms
Get Samples
Compute Class Statistics
Query GPS Info
Find Images
Image to Map
Map to Image
Measure from Image
Image to Map Multiray
Query Boundary
Compute Pixel Location
Compute Angles
Validate
Project