View In:
ArcGIS JavaScript
ArcGIS Online Map Viewer
ArcGIS Earth
Service Description: VIMS_CCRM/SLR_1pt76ftRise
Name: VIMS_CCRM/SLR_1pt76ftRise
Description:
Single Fused Map Cache: false
Extent:
XMin: 1.1705778485526035E7
YMin: 3355000.784939021
XMax: 1.2425000985526035E7
YMax: 4275010.784939021
Spatial Reference: 2925
(2925)
Initial Extent:
XMin: 1.1705778485526035E7
YMin: 3355000.784939021
XMax: 1.2425000985526035E7
YMax: 4275010.784939021
Spatial Reference: 2925
(2925)
Full Extent:
XMin: 1.1705778485526035E7
YMin: 3355000.784939021
XMax: 1.2425000985526035E7
YMax: 4275010.784939021
Spatial Reference: 2925
(2925)
Pixel Size X: 2.5
Pixel Size Y: 2.5
Band Count: 1
Pixel Type: F32
RasterFunction Infos: {"rasterFunctionInfos": [
{
"name": "SLR_Depth_withLabelsForDerek",
"description": "A raster function template.",
"help": ""
},
{
"name": "None",
"description": "",
"help": ""
}
]}
Mensuration Capabilities: Basic
Inspection Capabilities:
Has Histograms: true
Has Colormap: false
Has Multi Dimensions : false
Rendering Rule:
Min Scale: 0
Max Scale: 0
Copyright Text:
Service Data Type: esriImageServiceDataTypeGeneric
Min Values: 1.7881393432617188E-6
Max Values: 9.504766464233398
Mean Values: 2.1151401245085384
Standard Deviation Values: 1.4576552390736286
Object ID Field:
Fields:
None
Default Mosaic Method: Center
Allowed Mosaic Methods:
SortField:
SortValue: null
Mosaic Operator: First
Default Compression Quality: 75
Default Resampling Method: Bilinear
Max Record Count: null
Max Image Height: 4100
Max Image Width: 15000
Max Download Image Count: null
Max Mosaic Image Count: null
Allow Raster Function: true
Allow Copy: true
Allow Analysis: true
Allow Compute TiePoints: false
Supports Statistics: false
Supports Advanced Queries: false
Use StandardizedQueries: true
Raster Type Infos:
Name: Raster Dataset
Description: Supports all ArcGIS Raster Datasets
Help:
Has Raster Attribute Table: false
Edit Fields Info: null
Ownership Based AccessControl For Rasters: null
Child Resources:
Info
Histograms
Statistics
Key Properties
Legend
Raster Function Infos
Supported Operations:
Export Image
Identify
Measure
Compute Histograms
Compute Statistics Histograms
Get Samples
Compute Class Statistics
Query Boundary
Compute Pixel Location
Compute Angles
Validate
Project