View In:
  ArcGIS JavaScript
  ArcGIS Online Map Viewer
  ArcGIS Earth
Service Description:  VIMS_PHYS/CLIMG_MODIS_A2011239_1530_1530_2400_3400_01
Name:  VIMS_PHYS/CLIMG_MODIS_A2011239_1530_1530_2400_3400_01
Description:  
Single Fused Map Cache:  false
Extent: 
XMin: -82
YMin: 25
XMax: -70
YMax: 42
Spatial Reference: 4326
 (4326)
Initial Extent: 
XMin: -82
YMin: 25
XMax: -70
YMax: 42
Spatial Reference: 4326
 (4326)
Full Extent: 
XMin: -82
YMin: 25
XMax: -70
YMax: 42
Spatial Reference: 4326
 (4326)
Pixel Size X:  0.005
Pixel Size Y:  0.005
Band Count: 3
Pixel Type: U8
RasterFunction Infos:  {"rasterFunctionInfos": [{
 "name": "None",
 "description": "",
 "help": ""
}]}
Mensuration Capabilities: None
Inspection Capabilities: 
Has Histograms:  true
Has Colormap:  false
Has Multi Dimensions :  false
Rendering Rule: 
Min Scale:  0
Max Scale:  0
Copyright Text:  
Service Data Type:  esriImageServiceDataTypeRGB
Min Values:  0, 0, 0
Max Values:  255, 255, 255
Mean Values:  163.14171029411764, 210.12476323529413, 199.51181764705882
Standard Deviation Values:  72.08643198419973, 60.74768330722956, 68.33945765457798
Object ID Field:  OBJECTID
Fields: 
- 
OBJECTID
(
type: esriFieldTypeOID, alias: OBJECTID
)
 
- 
Shape
(
type: esriFieldTypeGeometry, alias: Shape
)
 
- 
Name
(
type: esriFieldTypeString, alias: Name, length: 200
)
 
- 
MinPS
(
type: esriFieldTypeDouble, alias: MinPS
)
 
- 
MaxPS
(
type: esriFieldTypeDouble, alias: MaxPS
)
 
- 
LowPS
(
type: esriFieldTypeDouble, alias: LowPS
)
 
- 
HighPS
(
type: esriFieldTypeDouble, alias: HighPS
)
 
- 
Category
(
type: esriFieldTypeInteger, alias: Category
, Coded Values: 
[0: Unknown]
, [1: Primary]
, [2: Overview]
, ...5 more...
)
 
- 
Tag
(
type: esriFieldTypeString, alias: Tag, length: 100
)
 
- 
GroupName
(
type: esriFieldTypeString, alias: GroupName, length: 100
)
 
- 
ProductName
(
type: esriFieldTypeString, alias: ProductName, length: 100
)
 
- 
CenterX
(
type: esriFieldTypeDouble, alias: CenterX
)
 
- 
CenterY
(
type: esriFieldTypeDouble, alias: CenterY
)
 
- 
ZOrder
(
type: esriFieldTypeInteger, alias: ZOrder
)
 
- 
Shape_Length
(
type: esriFieldTypeDouble, alias: Shape_Length
)
 
- 
Shape_Area
(
type: esriFieldTypeDouble, alias: Shape_Area
)
 
Default Mosaic Method:  Northwest
Allowed Mosaic Methods:  NorthWest,Center,LockRaster,ByAttribute,Nadir,Viewpoint,Seamline,None
SortField:  
SortValue:  null
Mosaic Operator:  First
Default Compression Quality:  75
Default Resampling Method:  Bilinear
Max Record Count:  1000
Max Image Height:  4100
Max Image Width:  15000
Max Download Image Count:  20
Max Mosaic Image Count:  20
Allow Raster Function:  true
Allow Copy:  true
Allow Analysis:  true
Allow Compute TiePoints:  false
Supports Statistics:  true
Supports Advanced Queries:  true
Use StandardizedQueries:  true
Raster Type Infos: 
Name: Raster Dataset
Description: Supports all ArcGIS Raster Datasets
Help: 
Has Raster Attribute Table:  false
Edit Fields Info:  null
Ownership Based AccessControl For Rasters:  null
Child Resources:
  
Info
  Histograms
  Statistics
  Key Properties
  Legend
  Raster Function Infos
Supported Operations:
  
Export Image
  Query
  Identify
  Compute Histograms
  Compute Statistics Histograms
  Get Samples
  Compute Class Statistics
  Query GPS Info
  Find Images
  Image to Map
  Map to Image
  Measure from Image
  Image to Map Multiray
  Query Boundary
  Compute Pixel Location
  Compute Angles
  Validate
  Project