View In:
ArcGIS JavaScript
ArcGIS Online Map Viewer
ArcGIS Earth
Service Description: Dynamic Series of layers from Hurricane Matthew in Central Virginia Beach, VA, Driven by Dr. Loftis at VIMS' (W&M) Street Level Hydrodynamic Model from 00:00-23:00 UTC on 10/9/2016. Model used spatially-varying rainfall inputs supplied by 21 rain gauges (12 of HRSD's and 9 from the City of Virginia Beach's), spatially varying soil infiltration defined by 1m resolution land cover data similar to Loftis et al.'s publication in the Journal of Coastal Research (2016), and tidal (Dirichlet) open boundary conditions provided by 3 USGS tide gauges near the edges of the domain's extent.
Name: VIMS_PHYS/Matthew2016TAL_flood_depths
Description: Dynamic Series of layers from Hurricane Matthew in Central Virginia Beach, VA, Driven by Dr. Loftis at VIMS' (W&M) Street Level Hydrodynamic Model from 00:00-23:00 UTC on 10/9/2016. Model used spatially-varying rainfall inputs supplied by 21 rain gauges (12 of HRSD's and 9 from the City of Virginia Beach's), spatially varying soil infiltration defined by 1m resolution land cover data similar to Loftis et al.'s publication in the Journal of Coastal Research (2016), and tidal (Dirichlet) open boundary conditions provided by 3 USGS tide gauges near the edges of the domain's extent.
Single Fused Map Cache: false
Extent:
XMin: 396700
YMin: 4068100
XMax: 408450
YMax: 4081100
Spatial Reference: 26918
(26918)
Initial Extent:
XMin: 396700
YMin: 4068100
XMax: 408450
YMax: 4081100
Spatial Reference: 26918
(26918)
Full Extent:
XMin: 396700
YMin: 4068100
XMax: 408450
YMax: 4081100
Spatial Reference: 26918
(26918)
Time Info:
Start Time Field: Date
End Time Field: null
Time Extent:
[2016/10/09 00:00:00 UTC, 2016/10/09 23:00:00 UTC]
Time Reference:
N/A
Pixel Size X: 1.0
Pixel Size Y: 1.0
Band Count: 1
Pixel Type: F32
RasterFunction Infos: {"rasterFunctionInfos": [{
"name": "None",
"description": "",
"help": ""
}]}
Mensuration Capabilities: None
Inspection Capabilities:
Has Histograms: true
Has Colormap: false
Has Multi Dimensions : false
Rendering Rule:
Min Scale: 0
Max Scale: 0
Copyright Text: Dr. Derek Loftis, VIMS, W&M
Service Data Type: esriImageServiceDataTypeGeneric
Min Values: 0.32808682322502136
Max Values: 16.846738815307617
Mean Values: 2.372035451883003
Standard Deviation Values: 2.6984598998834555
Object ID Field: OBJECTID
Fields:
-
OBJECTID
(
type: esriFieldTypeOID, alias: OBJECTID
)
-
Shape
(
type: esriFieldTypeGeometry, alias: Shape
)
-
Name
(
type: esriFieldTypeString, alias: Name, length: 200
)
-
MinPS
(
type: esriFieldTypeDouble, alias: MinPS
)
-
MaxPS
(
type: esriFieldTypeDouble, alias: MaxPS
)
-
LowPS
(
type: esriFieldTypeDouble, alias: LowPS
)
-
HighPS
(
type: esriFieldTypeDouble, alias: HighPS
)
-
Category
(
type: esriFieldTypeInteger, alias: Category
, Coded Values:
[0: Unknown]
, [1: Primary]
, [2: Overview]
, ...5 more...
)
-
Tag
(
type: esriFieldTypeString, alias: Tag, length: 100
)
-
GroupName
(
type: esriFieldTypeString, alias: GroupName, length: 100
)
-
ProductName
(
type: esriFieldTypeString, alias: ProductName, length: 100
)
-
CenterX
(
type: esriFieldTypeDouble, alias: CenterX
)
-
CenterY
(
type: esriFieldTypeDouble, alias: CenterY
)
-
ZOrder
(
type: esriFieldTypeInteger, alias: ZOrder
)
-
Shape_Length
(
type: esriFieldTypeDouble, alias: Shape_Length
)
-
Shape_Area
(
type: esriFieldTypeDouble, alias: Shape_Area
)
-
Date
(
type: esriFieldTypeDate, alias: Date, length: 8
)
Default Mosaic Method: Northwest
Allowed Mosaic Methods: NorthWest,Center,LockRaster,ByAttribute,Nadir,Viewpoint,Seamline,None
SortField:
SortValue: null
Mosaic Operator: First
Default Compression Quality: 75
Default Resampling Method: Bilinear
Max Record Count: 1000
Max Image Height: 4100
Max Image Width: 15000
Max Download Image Count: 20
Max Mosaic Image Count: 20
Allow Raster Function: true
Allow Copy: true
Allow Analysis: true
Allow Compute TiePoints: false
Supports Statistics: true
Supports Advanced Queries: true
Use StandardizedQueries: true
Raster Type Infos:
Name: Raster Dataset
Description: Supports all ArcGIS Raster Datasets
Help:
Has Raster Attribute Table: false
Edit Fields Info: null
Ownership Based AccessControl For Rasters: null
Child Resources:
Info
Histograms
Statistics
Key Properties
Legend
Raster Function Infos
Supported Operations:
Export Image
Query
Identify
Compute Histograms
Compute Statistics Histograms
Get Samples
Compute Class Statistics
Query GPS Info
Find Images
Image to Map
Map to Image
Measure from Image
Image to Map Multiray
Query Boundary
Compute Pixel Location
Compute Angles
Validate
Project