View In:
  ArcGIS JavaScript
  ArcGIS Online Map Viewer
  ArcGIS Earth
Service Description:  Aerial Imagery captured over the Virginia Coastal Bays in June, 2008 for the SAV Monitoring Program.
Name:  VIMS_SAV/SAV_Coastal_2008_Jun_Low_level
Description:  Aerial Imagery captured over the Virginia Coastal Bays in June, 2008 for the SAV Monitoring Program.
Single Fused Map Cache:  false
Extent: 
XMin: 425862.3953999998
YMin: 4122627.323099999
XMax: 437114.8953999998
YMax: 4142872.723099999
Spatial Reference: 26918
 (26918)
Initial Extent:
XMin: 425862.3953999998
YMin: 4122627.323099999
XMax: 437114.8953999998
YMax: 4142872.723099999
Spatial Reference: 26918
 (26918)
Full Extent:
XMin: 425862.3953999998
YMin: 4122627.323099999
XMax: 437114.8953999998
YMax: 4142872.723099999
Spatial Reference: 26918
 (26918)
Pixel Size X: 0.14
Pixel Size Y:  0.13999999999999935
Band Count: 3
Pixel Type: U8
RasterFunction Infos:  {"rasterFunctionInfos": [{
 "name": "None",
 "description": "",
 "help": ""
}]}
Mensuration Capabilities: None
Inspection Capabilities: 
Has Histograms:  true
Has Colormap:  false
Has Multi Dimensions :  false
Rendering Rule: 
Min Scale:  0
Max Scale:  0
Copyright Text:  VIMS SAV Monitoring Program http://www.vims.edu/bio/sav
Service Data Type:  esriImageServiceDataTypeRGB
Min Values:  0, 0, 0
Max Values:  251, 236, 190
Mean Values:  89.30211313772462, 90.6550788214463, 58.2235428907528
Standard Deviation Values:  63.56599196723294, 64.45621287491397, 42.26670123477034
Object ID Field:  OBJECTID
Fields: 
- 
OBJECTID
(
type: esriFieldTypeOID, alias: OBJECTID
)
- 
Shape
(
type: esriFieldTypeGeometry, alias: Shape
)
- 
Name
(
type: esriFieldTypeString, alias: Name, length: 50
)
- 
MinPS
(
type: esriFieldTypeDouble, alias: MinPS
)
- 
MaxPS
(
type: esriFieldTypeDouble, alias: MaxPS
)
- 
LowPS
(
type: esriFieldTypeDouble, alias: LowPS
)
- 
HighPS
(
type: esriFieldTypeDouble, alias: HighPS
)
- 
Category
(
type: esriFieldTypeInteger, alias: Category
, Coded Values: 
[0: Unknown]
, [1: Primary]
, [2: Overview]
, ...5 more...
)
- 
Tag
(
type: esriFieldTypeString, alias: Tag, length: 20
)
- 
GroupName
(
type: esriFieldTypeString, alias: GroupName, length: 50
)
- 
ProductName
(
type: esriFieldTypeString, alias: ProductName, length: 50
)
- 
CenterX
(
type: esriFieldTypeDouble, alias: CenterX
)
- 
CenterY
(
type: esriFieldTypeDouble, alias: CenterY
)
- 
ZOrder
(
type: esriFieldTypeInteger, alias: ZOrder
)
- 
Shape_Length
(
type: esriFieldTypeDouble, alias: Shape_Length
)
- 
Shape_Area
(
type: esriFieldTypeDouble, alias: Shape_Area
)
Default Mosaic Method: Northwest
Allowed Mosaic Methods:  NorthWest,Center,LockRaster,ByAttribute,Nadir,Viewpoint,Seamline,None
SortField:  
SortValue:  null
Mosaic Operator:  First
Default Compression Quality:  75
Default Resampling Method:  Bilinear
Max Record Count:  1000
Max Image Height:  4100
Max Image Width:  15000
Max Download Image Count:  20
Max Mosaic Image Count:  20
Allow Raster Function:  true
Allow Copy:  true
Allow Analysis:  true
Allow Compute TiePoints:  false
Supports Statistics:  true
Supports Advanced Queries:  true
Use StandardizedQueries:  true
Raster Type Infos: 
Name: Raster Dataset
Description: Supports all ArcGIS Raster Datasets
Help: 
Has Raster Attribute Table: false
Edit Fields Info:  null
Ownership Based AccessControl For Rasters:  null
Child Resources:
  
Info
  Histograms
  Statistics
  Key Properties
  Legend
  Raster Function Infos
Supported Operations:
  
Export Image
  Query
  Identify
  Compute Histograms
  Compute Statistics Histograms
  Get Samples
  Compute Class Statistics
  Query GPS Info
  Find Images
  Image to Map
  Map to Image
  Measure from Image
  Image to Map Multiray
  Query Boundary
  Compute Pixel Location
  Compute Angles
  Validate
  Project