View In:
ArcGIS JavaScript
ArcGIS Online Map Viewer
ArcGIS Earth
Service Description: VIMS_CCRM/TidewatchViewer_LIDAR
Name: VIMS_CCRM/TidewatchViewer_LIDAR
Description:
Single Fused Map Cache: false
Extent:
XMin: -8651471.342452832
YMin: 4373035.967417621
XMax: -8374022.777555703
YMax: 4716142.393630472
Spatial Reference: 102100
(3857)
Initial Extent:
XMin: -8651471.342452832
YMin: 4373035.967417621
XMax: -8374022.777555703
YMax: 4716142.393630472
Spatial Reference: 102100
(3857)
Full Extent:
XMin: -8651471.342452832
YMin: 4373035.967417621
XMax: -8374022.777555703
YMax: 4716142.393630472
Spatial Reference: 102100
(3857)
Pixel Size X: 0.7620015240030441
Pixel Size Y: 0.7620015240030448
Band Count: 1
Pixel Type: F32
RasterFunction Infos: {"rasterFunctionInfos": [{
"name": "None",
"description": "",
"help": ""
}]}
Mensuration Capabilities: Basic
Inspection Capabilities:
Has Histograms: true
Has Colormap: false
Has Multi Dimensions : false
Rendering Rule:
Min Scale: 0
Max Scale: 0
Copyright Text:
Service Data Type: esriImageServiceDataTypeGeneric
Min Values: -103.85065460205
Max Values: 162.46696472168
Mean Values: 18.212968958235
Standard Deviation Values: 22.80354078651
Object ID Field:
Fields:
None
Default Mosaic Method: Center
Allowed Mosaic Methods:
SortField:
SortValue: null
Mosaic Operator: First
Default Compression Quality: 75
Default Resampling Method: Bilinear
Max Record Count: null
Max Image Height: 4100
Max Image Width: 15000
Max Download Image Count: null
Max Mosaic Image Count: null
Allow Raster Function: true
Allow Copy: true
Allow Analysis: true
Allow Compute TiePoints: false
Supports Statistics: false
Supports Advanced Queries: false
Use StandardizedQueries: true
Raster Type Infos:
Name: Raster Dataset
Description: Supports all ArcGIS Raster Datasets
Help:
Has Raster Attribute Table: false
Edit Fields Info: null
Ownership Based AccessControl For Rasters: null
Child Resources:
Info
Histograms
Statistics
Key Properties
Legend
Raster Function Infos
Supported Operations:
Export Image
Identify
Measure
Compute Histograms
Compute Statistics Histograms
Get Samples
Compute Class Statistics
Query Boundary
Compute Pixel Location
Compute Angles
Validate
Project