View In:
ArcGIS JavaScript
ArcGIS Online Map Viewer
ArcGIS Earth
Service Description: VIMS_CCRM/SLR_2050_2054_tif
Name: VIMS_CCRM/SLR_2050_2054_tif
Description:
Single Fused Map Cache: false
Extent:
XMin: 247378.92345737029
YMin: 4041901.042590411
XMax: 479399.66766741045
YMax: 4311287.476643611
Spatial Reference: 26918
(26918)
VCSWkid(5703)
LatestVCSWkid(5703)
Initial Extent:
XMin: 247378.92345737029
YMin: 4041901.042590411
XMax: 479399.66766741045
YMax: 4311287.476643611
Spatial Reference: 26918
(26918)
VCSWkid(5703)
LatestVCSWkid(5703)
Full Extent:
XMin: 247378.92345737029
YMin: 4041901.042590411
XMax: 479399.66766741045
YMax: 4311287.476643611
Spatial Reference: 26918
(26918)
VCSWkid(5703)
LatestVCSWkid(5703)
Pixel Size X: 1.0383053159613542
Pixel Size Y: 1.0274826705718563
Band Count: 1
Pixel Type: F32
RasterFunction Infos: {"rasterFunctionInfos": [{
"name": "None",
"description": "",
"help": ""
}]}
Mensuration Capabilities: Basic
Inspection Capabilities:
Has Histograms: true
Has Colormap: false
Has Multi Dimensions : false
Rendering Rule:
Min Scale: 0
Max Scale: 0
Copyright Text:
Service Data Type: esriImageServiceDataTypeGeneric
Min Values: 0
Max Values: 62.864204406738
Mean Values: 0.038147594996626
Standard Deviation Values: 0.36081542431364
Object ID Field:
Fields:
None
Default Mosaic Method: Center
Allowed Mosaic Methods:
SortField:
SortValue: null
Mosaic Operator: First
Default Compression Quality: 75
Default Resampling Method: Bilinear
Max Record Count: null
Max Image Height: 4100
Max Image Width: 15000
Max Download Image Count: null
Max Mosaic Image Count: null
Allow Raster Function: true
Allow Copy: true
Allow Analysis: true
Allow Compute TiePoints: false
Supports Statistics: false
Supports Advanced Queries: false
Use StandardizedQueries: true
Raster Type Infos:
Name: Raster Dataset
Description: Supports all ArcGIS Raster Datasets
Help:
Has Raster Attribute Table: false
Edit Fields Info: null
Ownership Based AccessControl For Rasters: null
Child Resources:
Info
Histograms
Statistics
Key Properties
Legend
Raster Function Infos
Supported Operations:
Export Image
Identify
Measure
Compute Histograms
Compute Statistics Histograms
Get Samples
Compute Class Statistics
Query Boundary
Compute Pixel Location
Compute Angles
Validate
Project