View In:
ArcGIS JavaScript
ArcGIS Online Map Viewer
ArcGIS Earth
Service Description: VIMS_CCRM/VFRIS_Loudoun
Name: VIMS_CCRM/VFRIS_Loudoun
Description:
Single Fused Map Cache: false
Extent:
XMin: 1.1657266400209472E7
YMin: 7005724.5641717315
XMax: 1.1815196400209472E7
YMax: 7166514.5641717315
Spatial Reference: 2924
(2924)
Initial Extent:
XMin: 1.1657266400209472E7
YMin: 7005724.5641717315
XMax: 1.1815196400209472E7
YMax: 7166514.5641717315
Spatial Reference: 2924
(2924)
Full Extent:
XMin: 1.1657266400209472E7
YMin: 7005724.5641717315
XMax: 1.1815196400209472E7
YMax: 7166514.5641717315
Spatial Reference: 2924
(2924)
Pixel Size X: 10.0
Pixel Size Y: 10.0
Band Count: 1
Pixel Type: F32
RasterFunction Infos: {"rasterFunctionInfos": [
{
"name": "VFRIS_Loudoun",
"description": "A raster function template.",
"help": ""
},
{
"name": "None",
"description": "",
"help": ""
}
]}
Mensuration Capabilities: Basic
Inspection Capabilities:
Has Histograms: true
Has Colormap: false
Has Multi Dimensions : false
Rendering Rule:
Min Scale: 0
Max Scale: 0
Copyright Text:
Service Data Type: esriImageServiceDataTypeGeneric
Min Values: 197.00021362305
Max Values: 706.91613769531
Mean Values: 291.64508953552
Standard Deviation Values: 87.289918778203
Object ID Field:
Fields:
None
Default Mosaic Method: Center
Allowed Mosaic Methods:
SortField:
SortValue: null
Mosaic Operator: First
Default Compression Quality: 75
Default Resampling Method: Bilinear
Max Record Count: null
Max Image Height: 4100
Max Image Width: 15000
Max Download Image Count: null
Max Mosaic Image Count: null
Allow Raster Function: true
Allow Copy: true
Allow Analysis: true
Allow Compute TiePoints: false
Supports Statistics: false
Supports Advanced Queries: false
Use StandardizedQueries: true
Raster Type Infos:
Name: Raster Dataset
Description: Supports all ArcGIS Raster Datasets
Help:
Has Raster Attribute Table: false
Edit Fields Info: null
Ownership Based AccessControl For Rasters: null
Child Resources:
Info
Histograms
Statistics
Key Properties
Legend
Raster Function Infos
Supported Operations:
Export Image
Identify
Measure
Compute Histograms
Compute Statistics Histograms
Get Samples
Compute Class Statistics
Query Boundary
Compute Pixel Location
Compute Angles
Validate
Project