View In:
ArcGIS JavaScript
ArcGIS Online Map Viewer
ArcGIS Earth
Service Description: Description
This Web Map is included in the Mitigating Marshes Against Sea Level Rise: Thin Layer Placement Experiment application.
The National Estuarine Research Reserve (NERR) System Science Collaborative funded a two-year experiment at 8 different NERR sites to provide broad geographic scale, including Chesapeake Bay NERR in Virginia. The three core research questions they aim to answer include: “Is sediment addition an effective adaptation strategy for marshes in the face of sea level rise? How does marsh resilience respond to different levels of sediment addition? How do low versus high marsh habitats differ in their response to this restoration strategy?”.
This Story Map is a tool for 6th-12th grade teachers to help teach students about marshes and thin layer placement restoration techniques by exploring maps, videos, and images. Students will analyze how vegetation has changed in the Chesapeake Bay National Estuarine Research Reserve in Virginia (CBNERR-VA) marsh experiment plots in the first year of monitoring. They will evaluate images and graphs different treatments and determine which could be used as a possible restoration technique to combat sea level rise in marshes.
Name: VIMS_CBNERR/2019_04_12_goodwin_tld_clip
Description: Description
This Web Map is included in the Mitigating Marshes Against Sea Level Rise: Thin Layer Placement Experiment application.
The National Estuarine Research Reserve (NERR) System Science Collaborative funded a two-year experiment at 8 different NERR sites to provide broad geographic scale, including Chesapeake Bay NERR in Virginia. The three core research questions they aim to answer include: “Is sediment addition an effective adaptation strategy for marshes in the face of sea level rise? How does marsh resilience respond to different levels of sediment addition? How do low versus high marsh habitats differ in their response to this restoration strategy?”.
This Story Map is a tool for 6th-12th grade teachers to help teach students about marshes and thin layer placement restoration techniques by exploring maps, videos, and images. Students will analyze how vegetation has changed in the Chesapeake Bay National Estuarine Research Reserve in Virginia (CBNERR-VA) marsh experiment plots in the first year of monitoring. They will evaluate images and graphs different treatments and determine which could be used as a possible restoration technique to combat sea level rise in marshes.
Single Fused Map Cache: false
Extent:
XMin: 375234.28849
YMin: 4119984.46382
XMax: 375582.44819
YMax: 4120503.1507200003
Spatial Reference: 32618
(32618)
Initial Extent:
XMin: 375234.28849
YMin: 4119984.46382
XMax: 375582.44819
YMax: 4120503.1507200003
Spatial Reference: 32618
(32618)
Full Extent:
XMin: 375234.28849
YMin: 4119984.46382
XMax: 375582.44819
YMax: 4120503.1507200003
Spatial Reference: 32618
(32618)
Pixel Size X: 0.017330000000000914
Pixel Size Y: 0.017330000000002937
Band Count: 4
Pixel Type: U8
RasterFunction Infos: {"rasterFunctionInfos": [{
"name": "None",
"description": "",
"help": ""
}]}
Mensuration Capabilities: Basic
Inspection Capabilities:
Has Histograms: true
Has Colormap: false
Has Multi Dimensions : false
Rendering Rule:
Min Scale: 0
Max Scale: 0
Copyright Text: National Oceanic and Atmospheric Administration (NOAA), National Estuarine Research Reserve Association (NERRA), Chesapeake Bay National Estuarine Research Reserve in Virginia (CBNERR-VA); Virginia Institute of Marine Science (VIMS)
Service Data Type: esriImageServiceDataTypeGeneric
Min Values: 0, 0, 0, 0
Max Values: 255, 255, 255, 255
Mean Values: 139.64437279809, 139.35212680376, 121.8596647242, 254.99693162665
Standard Deviation Values: 32.303908837578, 32.148723374719, 32.313136834582, 0.88454835432607
Object ID Field:
Fields:
None
Default Mosaic Method: Center
Allowed Mosaic Methods:
SortField:
SortValue: null
Mosaic Operator: First
Default Compression Quality: 75
Default Resampling Method: Bilinear
Max Record Count: null
Max Image Height: 4100
Max Image Width: 15000
Max Download Image Count: null
Max Mosaic Image Count: null
Allow Raster Function: true
Allow Copy: true
Allow Analysis: true
Allow Compute TiePoints: false
Supports Statistics: false
Supports Advanced Queries: false
Use StandardizedQueries: true
Raster Type Infos:
Name: Raster Dataset
Description: Supports all ArcGIS Raster Datasets
Help:
Has Raster Attribute Table: false
Edit Fields Info: null
Ownership Based AccessControl For Rasters: null
Child Resources:
Info
Histograms
Statistics
Key Properties
Legend
Raster Function Infos
Supported Operations:
Export Image
Identify
Measure
Compute Histograms
Compute Statistics Histograms
Get Samples
Compute Class Statistics
Query Boundary
Compute Pixel Location
Compute Angles
Validate
Project